BEGIN:VCALENDAR
VERSION:2.0
PRODID:-//Accelerate Learning Services - ECPv6.15.20//NONSGML v1.0//EN
CALSCALE:GREGORIAN
METHOD:PUBLISH
X-WR-CALNAME:Accelerate Learning Services
X-ORIGINAL-URL:https://www.acceleratelearningservices.co.uk
X-WR-CALDESC:Events for Accelerate Learning Services
REFRESH-INTERVAL;VALUE=DURATION:PT1H
X-Robots-Tag:noindex
X-PUBLISHED-TTL:PT1H
BEGIN:VTIMEZONE
TZID:Europe/London
BEGIN:DAYLIGHT
TZOFFSETFROM:+0000
TZOFFSETTO:+0100
TZNAME:BST
DTSTART:20240331T010000
END:DAYLIGHT
BEGIN:STANDARD
TZOFFSETFROM:+0100
TZOFFSETTO:+0000
TZNAME:GMT
DTSTART:20241027T010000
END:STANDARD
BEGIN:DAYLIGHT
TZOFFSETFROM:+0000
TZOFFSETTO:+0100
TZNAME:BST
DTSTART:20250330T010000
END:DAYLIGHT
BEGIN:STANDARD
TZOFFSETFROM:+0100
TZOFFSETTO:+0000
TZNAME:GMT
DTSTART:20251026T010000
END:STANDARD
BEGIN:DAYLIGHT
TZOFFSETFROM:+0000
TZOFFSETTO:+0100
TZNAME:BST
DTSTART:20260329T010000
END:DAYLIGHT
BEGIN:STANDARD
TZOFFSETFROM:+0100
TZOFFSETTO:+0000
TZNAME:GMT
DTSTART:20261025T010000
END:STANDARD
BEGIN:DAYLIGHT
TZOFFSETFROM:+0000
TZOFFSETTO:+0100
TZNAME:BST
DTSTART:20270328T010000
END:DAYLIGHT
BEGIN:STANDARD
TZOFFSETFROM:+0100
TZOFFSETTO:+0000
TZNAME:GMT
DTSTART:20271031T010000
END:STANDARD
END:VTIMEZONE
BEGIN:VEVENT
DTSTART;VALUE=DATE:20260226
DTEND;VALUE=DATE:20260227
DTSTAMP:20260424T163602
CREATED:20260106T181323Z
LAST-MODIFIED:20260106T181323Z
UID:5361-1772064000-1772150399@www.acceleratelearningservices.co.uk
SUMMARY:Amazing PE Lessons (NEW COURSE!)
DESCRIPTION:
URL:https://www.acceleratelearningservices.co.uk/course-calendar/amazing-pe-lessons-new-course/
END:VEVENT
BEGIN:VEVENT
DTSTART;TZID=Europe/London:20260114T093000
DTEND;TZID=Europe/London:20260114T153000
DTSTAMP:20260424T163602
CREATED:20260106T181046Z
LAST-MODIFIED:20260106T181046Z
UID:5359-1768383000-1768404600@www.acceleratelearningservices.co.uk
SUMMARY:3 Day Securing Good PE Teaching Course
DESCRIPTION:
URL:https://www.acceleratelearningservices.co.uk/course-calendar/3-day-securing-good-pe-teaching-course/
END:VEVENT
BEGIN:VEVENT
DTSTART;TZID=Europe/London:20251106T093000
DTEND;TZID=Europe/London:20251106T160000
DTSTAMP:20260424T163602
CREATED:20250807T065340Z
LAST-MODIFIED:20250807T065340Z
UID:4360-1762421400-1762444800@www.acceleratelearningservices.co.uk
SUMMARY:Early Years Fundamental Movement course
DESCRIPTION:
URL:https://www.acceleratelearningservices.co.uk/course-calendar/early-years-fundamental-movement-course/
CATEGORIES:1 Day Course
END:VEVENT
BEGIN:VEVENT
DTSTART;TZID=Europe/London:20251022T090000
DTEND;TZID=Europe/London:20251023T170000
DTSTAMP:20260424T163602
CREATED:20250807T064547Z
LAST-MODIFIED:20250807T064833Z
UID:4358-1761123600-1761238800@www.acceleratelearningservices.co.uk
SUMMARY:Outdoor First Aid
DESCRIPTION:
URL:https://www.acceleratelearningservices.co.uk/course-calendar/outdoor-first-aid-2/
CATEGORIES:2 Day Course
END:VEVENT
BEGIN:VEVENT
DTSTART;TZID=Europe/London:20251013T093000
DTEND;TZID=Europe/London:20251013T160000
DTSTAMP:20260424T163602
CREATED:20250807T064307Z
LAST-MODIFIED:20250807T064307Z
UID:4356-1760347800-1760371200@www.acceleratelearningservices.co.uk
SUMMARY:Developing Pupils Core Strength & Motor Skills to improve Literacy
DESCRIPTION:
URL:https://www.acceleratelearningservices.co.uk/course-calendar/developing-pupils-core-strength-motor-skills-to-improve-literacy/
CATEGORIES:1 Day Course
END:VEVENT
BEGIN:VEVENT
DTSTART;TZID=Europe/London:20251007T093000
DTEND;TZID=Europe/London:20251007T160000
DTSTAMP:20260424T163602
CREATED:20250807T064037Z
LAST-MODIFIED:20250807T064037Z
UID:4354-1759829400-1759852800@www.acceleratelearningservices.co.uk
SUMMARY:Gymnastics Level 1
DESCRIPTION:
URL:https://www.acceleratelearningservices.co.uk/course-calendar/gymnastics-level-1/
CATEGORIES:1 Day Course
ORGANIZER;CN="Caroline Holder":MAILTO:peconsultant@outlook.com
END:VEVENT
BEGIN:VEVENT
DTSTART;TZID=Europe/London:20250923T093000
DTEND;TZID=Europe/London:20250923T153000
DTSTAMP:20260424T163602
CREATED:20250807T063709Z
LAST-MODIFIED:20250807T063709Z
UID:4352-1758619800-1758641400@www.acceleratelearningservices.co.uk
SUMMARY:PE Network Meeting
DESCRIPTION:
URL:https://www.acceleratelearningservices.co.uk/course-calendar/pe-network-meeting/
CATEGORIES:1 Day Course
ORGANIZER;CN="Caroline Holder":MAILTO:peconsultant@outlook.com
END:VEVENT
BEGIN:VEVENT
DTSTART;TZID=Europe/London:20250918T093000
DTEND;TZID=Europe/London:20250918T153000
DTSTAMP:20260424T163602
CREATED:20250807T063537Z
LAST-MODIFIED:20250807T063537Z
UID:4349-1758187800-1758209400@www.acceleratelearningservices.co.uk
SUMMARY:Forest School Network
DESCRIPTION:
URL:https://www.acceleratelearningservices.co.uk/course-calendar/forest-school-network/
CATEGORIES:1 Day Course
END:VEVENT
END:VCALENDAR